BEGIN:VCALENDAR
VERSION:2.0
PRODID:-//Endorso//Watch Free Events//EN
CALSCALE:GREGORIAN
METHOD:PUBLISH
BEGIN:VEVENT
UID:argentine-primera-boca-juniors-vs-racing-club-2026-04-26@endorso.com
DTSTAMP:20260420T111813Z
DTSTART:20260426T210000Z
DTEND:20260426T230000Z
SUMMARY:Boca Juniors vs Racing Club — Argentine Primera (Watch Free with VPN)
DESCRIPTION:Boca Juniors takes on Racing Club in a classic Argentine rivalry. This match is always filled with passion and intensity.\\n\\nFree on TV Publica (Argentina).\\n\\nFull guide: https://endorso.com/vpn/watch/argentine-primera-boca-juniors-vs-racing-club-2026-04-26
URL:https://endorso.com/vpn/watch/argentine-primera-boca-juniors-vs-racing-club-2026-04-26
LOCATION:https://endorso.com/vpn/watch/argentine-primera-boca-juniors-vs-racing-club-2026-04-26
END:VEVENT
END:VCALENDAR